BEGIN:VCALENDAR
VERSION:2.0
PRODID:https://mensa.hu
BEGIN:VEVENT
UID:69e76376d3a04
DTSTART:20260506T160000Z
SEQUENCE:0
TRANSP:OPAQUE
DTEND:20260506T180000Z
URL:https://mensa.hu/program/iq-teszt-2026-05-06-debrecen/
LOCATION:DEBRECENI KÉPZŐ KÖZPONT Oktatási Szolgáltató Nonprofit Kft.\
 , 4030 Debrecen\, Budai Ézsaiás utca 8/a.
X-APPLE-STRUCTURED-LOCATION;VALUE=URI;X-ADDRESS="DEBRECENI KÉPZŐ KÖZPONT
  Oktatási Szolgáltató Nonprofit Kft., 4030 Debrecen, Budai Ézsaiás ut
 ca 8/a.";X-APPLE-RADIUS=49;X-TITLE=DEBRECENI KÉPZŐ KÖZPONT Oktatási Sz
 olgáltató Nonprofit Kft.:geo:0.000000,0.000000
GEO:0.000000;0.000000
SUMMARY:IQ-teszt (2026.05.06) Debrecen
CLASS:PUBLIC
DESCRIPTION:A Mensa HungarIQa felvételi IQ-tesztje körülbelül másfél 
 órás program. Tesztírás előtt egy kb. 40-50 perces előadást tartunk
  a Mensáról\, az intelligenciáról és a kitöltendő IQ-tesztről\, ma
 jd ez után következik maga a tesztírás. (Az előadáson is részt kell
  venned\, mert a teszt megírásához fontosak az ott elhangzó informáci
 ók).\nAz előadás előtti gyors adategyeztetés és regisztráció miatt
  ..\n\nhttps://mensa.hu/program/iq-teszt-2026-05-06-debrecen/
DTSTAMP:20260421T114558Z
END:VEVENT
END:VCALENDAR