BEGIN:VCALENDAR
VERSION:2.0
PRODID:https://mensa.hu
BEGIN:VEVENT
UID:69e7828dc4bfd
DTSTART:20260428T150000Z
SEQUENCE:0
TRANSP:OPAQUE
DTEND:20260428T170000Z
URL:https://mensa.hu/program/iq-teszt-2026-04-28-miskolc/
LOCATION:Jakab Oktatási Kft.\, 3525 Miskolc\, Kis-Hunyad u. 1. 
X-APPLE-STRUCTURED-LOCATION;VALUE=URI;X-ADDRESS="Jakab Oktatási Kft., 3525
  Miskolc, Kis-Hunyad u. 1. ";X-APPLE-RADIUS=49;X-TITLE=Jakab Oktatási Kft
 .:geo:0.000000,0.000000
GEO:0.000000;0.000000
SUMMARY:IQ-teszt (2026.04.28) Miskolc
CLASS:PUBLIC
DESCRIPTION:A Mensa HungarIQa felvételi IQ-tesztje körülbelül másfél 
 órás program. Tesztírás előtt egy kb. 40-50 perces előadást tartunk
  a Mensáról\, az intelligenciáról és a kitöltendő IQ-tesztről\, ma
 jd ez után következik maga a tesztírás. (Az előadáson is részt kell
  venned\, mert a teszt megírásához fontosak az ott elhangzó informáci
 ók).\nAz előadás előtti gyors adategyeztetés és regisztráció miatt
  ..\n\nhttps://mensa.hu/program/iq-teszt-2026-04-28-miskolc/
DTSTAMP:20260421T135837Z
END:VEVENT
END:VCALENDAR