BEGIN:VCALENDAR
VERSION:2.0
PRODID:https://mensa.hu
BEGIN:VEVENT
UID:69e74a43e791f
DTSTART:20260428T161500Z
SEQUENCE:0
TRANSP:OPAQUE
DTEND:20260428T181500Z
URL:https://mensa.hu/program/iq-teszt-2026-04-28-budapest/
LOCATION:KAV (Közlekedési Alkalmassági és Vizsgaközpont) Budapest\, 10
 33 Budapest\, Polgár utca 8-10.
X-APPLE-STRUCTURED-LOCATION;VALUE=URI;X-ADDRESS="KAV (Közlekedési Alkalma
 ssági és Vizsgaközpont) Budapest, 1033 Budapest, Polgár utca 8-10.";X-
 APPLE-RADIUS=49;X-TITLE=KAV (Közlekedési Alkalmassági és Vizsgaközpon
 t) Budapest:geo:0.000000,0.000000
GEO:0.000000;0.000000
SUMMARY:IQ-teszt (2026.04.28) Budapest
CLASS:PUBLIC
DESCRIPTION:A Mensa HungarIQa felvételi IQ-tesztje körülbelül másfél 
 órás program. Tesztírás előtt egy kb. 40-50 perces előadást tartunk
  a Mensáról\, az intelligenciáról és a kitöltendő IQ-tesztről\, ma
 jd ez után következik maga a tesztírás. (Az előadáson is részt kell
  venned\, mert a teszt megírásához fontosak az ott elhangzó informáci
 ók).\nAz előadás előtti gyors adategyeztetés és regisztráció miatt
  ..\n\nhttps://mensa.hu/program/iq-teszt-2026-04-28-budapest/
DTSTAMP:20260421T095827Z
END:VEVENT
END:VCALENDAR