BEGIN:VCALENDAR
VERSION:2.0
PRODID:https://mensa.hu
BEGIN:VEVENT
UID:69e9f5de00201
DTSTART:20260427T160000Z
SEQUENCE:0
TRANSP:OPAQUE
DTEND:20260427T180000Z
URL:https://mensa.hu/program/iq-teszt-2026-04-27-szeged/
LOCATION:SZTE Juhász Gyula Gyakorló Általános Iskolája\, 6725 Szeged\,
  Boldogasszony sgt. 8.
X-APPLE-STRUCTURED-LOCATION;VALUE=URI;X-ADDRESS="SZTE Juhász Gyula Gyakorl
 ó Általános Iskolája, 6725 Szeged, Boldogasszony sgt. 8.";X-APPLE-RADI
 US=49;X-TITLE=SZTE Juhász Gyula Gyakorló Általános Iskolája:geo:0.000
 000,0.000000
GEO:0.000000;0.000000
SUMMARY:IQ-teszt (2026.04.27) Szeged
CLASS:PUBLIC
DESCRIPTION:A Mensa HungarIQa felvételi IQ-tesztje körülbelül másfél 
 órás program. Tesztírás előtt egy kb. 40-50 perces előadást tartunk
  a Mensáról\, az intelligenciáról és a kitöltendő IQ-tesztről\, ma
 jd ez után következik maga a tesztírás. (Az előadáson is részt kell
  venned\, mert a teszt megírásához fontosak az ott elhangzó informáci
 ók).\nAz előadás előtti gyors adategyeztetés és regisztráció miatt
  ..\n\nhttps://mensa.hu/program/iq-teszt-2026-04-27-szeged/
DTSTAMP:20260423T103510Z
END:VEVENT
END:VCALENDAR