BEGIN:VCALENDAR
VERSION:2.0
PRODID:https://mensa.hu
BEGIN:VEVENT
UID:69e7511d56e2c
DTSTART:20260425T140000Z
SEQUENCE:0
TRANSP:OPAQUE
DTEND:20260425T160000Z
URL:https://mensa.hu/program/iq-teszt-2026-04-25-foldes/
LOCATION:Karácsony Sándor Közösségi Ház\, 4177 Földes\, Karácsony S
 ándor tér 6
X-APPLE-STRUCTURED-LOCATION;VALUE=URI;X-ADDRESS="Karácsony Sándor Közös
 ségi Ház, 4177 Földes, Karácsony Sándor tér 6";X-APPLE-RADIUS=49;X-T
 ITLE=Karácsony Sándor Közösségi Ház:geo:0.000000,0.000000
GEO:0.000000;0.000000
SUMMARY:IQ-teszt (2026.04.25.) Földes
CLASS:PUBLIC
DESCRIPTION:A Mensa HungarIQa felvételi IQ-tesztje körülbelül két ór
 ás program. Tesztírás előtt egy kb. 40-50 perces előadást tartunk a 
 Mensáról\, az intelligenciáról és a kitöltendő IQ-tesztről\, majd 
 ez után következik maga a tesztírás. (Az előadáson is részt kell ve
 nned\, mert a teszt megírásához fontosak az ott elhangzó információk
 ).\nAz előadás előtti gyors adategyeztetés és regisztráció miatt ..
 \n\nhttps://mensa.hu/program/iq-teszt-2026-04-25-foldes/
DTSTAMP:20260421T102741Z
END:VEVENT
END:VCALENDAR